BEGIN:VCALENDAR
VERSION:2.0
PRODID:-//North Shore Latino Business - ECPv6.15.20//NONSGML v1.0//EN
CALSCALE:GREGORIAN
METHOD:PUBLISH
X-ORIGINAL-URL:https://mynslba.com
X-WR-CALDESC:Events for North Shore Latino Business
REFRESH-INTERVAL;VALUE=DURATION:PT1H
X-Robots-Tag:noindex
X-PUBLISHED-TTL:PT1H
BEGIN:VTIMEZONE
TZID:UTC
BEGIN:STANDARD
TZOFFSETFROM:+0000
TZOFFSETTO:+0000
TZNAME:UTC
DTSTART:20240101T000000
END:STANDARD
END:VTIMEZONE
BEGIN:VEVENT
DTSTART;TZID=UTC:20251022T183000
DTEND;TZID=UTC:20251022T200000
DTSTAMP:20260426T035820
CREATED:20250923T140226Z
LAST-MODIFIED:20250923T140226Z
UID:2080-1761157800-1761163200@mynslba.com
SUMMARY:NSLBA Network ~ General Business Meeting ~October 2025
DESCRIPTION:NSLBA Networking & Reunión General de Negocios Mensual\nMiércoles 22 de octubre\, 2025 @ 6:30 PM – 8:00 PM\n33 Sutton Street. Lynn MA 01901\n6:30 PM NETWORKING\nConexión Empresarial & Profesionales\n7:00 PM Reunión de Negocios\n7:45 PM 30 Segundos de Fama\nLanguage: INGLÉS y  ESPAÑOL\nReserve Su Asiento: https://www.zeffy.com/en-US/ticketing/nslba-networking-general-business-meeting-oct–2025 \nNSLBA Networking & General Business\nWednesday October 22\, 2025 @ 6:30 PM – 8:00 PM\n33 Sutton Street. Lynn MA 01901\n6:30 PM Networking\n7:00 PM General Business Meeting\n7:45 PM 30 Seconds of Fame\nLanguage: Spanish and English\nRSVP/Reserve su asiento:\nhttps://www.zeffy.com/en-US/ticketing/nslba-networking-general-business-meeting-oct–2025
URL:https://mynslba.com/event/nslba-network-general-business-meeting-october-2025/
LOCATION:NSLBA\, 33 Sutton St\, Lynn\, MA\, 01901\, United States
ATTACH;FMTTYPE=image/jpeg:https://mynslba.com/wp-content/uploads/2025/09/OCTOBER-2025-NSLBA-Genaral-Business-Meeting.jpg
END:VEVENT
END:VCALENDAR