BEGIN:VCALENDAR
VERSION:2.0
PRODID:-//North Shore Latino Business - ECPv6.15.20//NONSGML v1.0//EN
CALSCALE:GREGORIAN
METHOD:PUBLISH
X-ORIGINAL-URL:https://mynslba.com
X-WR-CALDESC:Events for North Shore Latino Business
REFRESH-INTERVAL;VALUE=DURATION:PT1H
X-Robots-Tag:noindex
X-PUBLISHED-TTL:PT1H
BEGIN:VTIMEZONE
TZID:UTC
BEGIN:STANDARD
TZOFFSETFROM:+0000
TZOFFSETTO:+0000
TZNAME:UTC
DTSTART:20240101T000000
END:STANDARD
END:VTIMEZONE
BEGIN:VEVENT
DTSTART;TZID=UTC:20251027T180000
DTEND;TZID=UTC:20251027T200000
DTSTAMP:20260426T021545
CREATED:20250925T182845Z
LAST-MODIFIED:20250925T182845Z
UID:2091-1761588000-1761595200@mynslba.com
SUMMARY:NSLBA Business of Hard Knocks Program Graduation
DESCRIPTION:The 6th Cohort of the Business of Hard Knocks Program\non Monday October 27\, 2025 at 6:00 PM. \nJoin us in celebrating the hard work and commitment of our graduates \n\nat the North Shore Latino Business Association Center\,\nlocated at 33 Sutton St.\, Lynn\, MA. \nWe eagerly anticipate your presence as we honor and recognize \nthe achievements of our forth cohort of Business of Hard Knocks participants.\n_________\n\nLa sexta cohorte del Programa Business of Hard Knocks\nse celebrará su graduación el lunes 27 de octubre de 2025 a las 6:00 PM.\nAcompáñenos a celebrar el arduo trabajo y el compromiso de nuestros graduados en el Centroy la Asociación de Negocios North Shore Latino Business Association\nubicado en 33 Sutton St.\, Lynn\, MA.\nEsperamos con entusiasmo su presencia para honrar y reconocer los logros de nuestra cuarta cohorte de participantes del Programa Negocios de la Vida.
URL:https://mynslba.com/event/nslba-business-of-hard-knocks-program-graduation/
LOCATION:North Shore Latino Business Association Office\, 33 Sutton Street\, Lynn\, MA\, 01901\, United States
ATTACH;FMTTYPE=image/jpeg:https://mynslba.com/wp-content/uploads/2025/09/BHK-Graduation-10.27.2025-1.jpg
END:VEVENT
END:VCALENDAR