BEGIN:VCALENDAR
VERSION:2.0
PRODID:-//North Shore Latino Business - ECPv6.15.20//NONSGML v1.0//EN
CALSCALE:GREGORIAN
METHOD:PUBLISH
X-ORIGINAL-URL:https://mynslba.com
X-WR-CALDESC:Events for North Shore Latino Business
REFRESH-INTERVAL;VALUE=DURATION:PT1H
X-Robots-Tag:noindex
X-PUBLISHED-TTL:PT1H
BEGIN:VTIMEZONE
TZID:UTC
BEGIN:STANDARD
TZOFFSETFROM:+0000
TZOFFSETTO:+0000
TZNAME:UTC
DTSTART:20240101T000000
END:STANDARD
END:VTIMEZONE
BEGIN:VEVENT
DTSTART;TZID=UTC:20251028T140000
DTEND;TZID=UTC:20251028T150000
DTSTAMP:20260426T021546
CREATED:20251020T165429Z
LAST-MODIFIED:20251020T172548Z
UID:2115-1761660000-1761663600@mynslba.com
SUMMARY:TITAN HVAC SUPPLY Official Grand Opening & Ribbon Cutting Ceremony
DESCRIPTION:The North Shore Latino Business Association invites you to come join us and our new members for the Official Grand Opening & Ribbon Cutting Ceremony of ” TITAN HVAC SUPPLY ” October 28\, 2025. \nLa Asociación de Comerciantes Latinos del North Shore los invita celebrar con nosotros y nuestros miembros para la Gran Ceremonia de Inauguración de ”TITAN HVAC SUPPLY ”  el 28 de Octubre del 2025.
URL:https://mynslba.com/event/titan-hvac-suppy-official-grand-opening-ribbon-cutting-ceremony/
LOCATION:TITAN HVAC SUPPLY\, 155 New Boston St. Suite F\, Woburn\, MA\, 01801\, United States
ATTACH;FMTTYPE=image/jpeg:https://mynslba.com/wp-content/uploads/2025/10/TTTAN-HVAC-Supply-rand-Opening-10.28.2025.jpg
END:VEVENT
END:VCALENDAR