BEGIN:VCALENDAR
VERSION:2.0
PRODID:-//North Shore Latino Business - ECPv6.15.20//NONSGML v1.0//EN
CALSCALE:GREGORIAN
METHOD:PUBLISH
X-ORIGINAL-URL:https://mynslba.com
X-WR-CALDESC:Events for North Shore Latino Business
REFRESH-INTERVAL;VALUE=DURATION:PT1H
X-Robots-Tag:noindex
X-PUBLISHED-TTL:PT1H
BEGIN:VTIMEZONE
TZID:UTC
BEGIN:STANDARD
TZOFFSETFROM:+0000
TZOFFSETTO:+0000
TZNAME:UTC
DTSTART:20240101T000000
END:STANDARD
END:VTIMEZONE
BEGIN:VEVENT
DTSTART;TZID=UTC:20251029T083000
DTEND;TZID=UTC:20251029T220000
DTSTAMP:20260426T021524
CREATED:20251021T204150Z
LAST-MODIFIED:20251021T204150Z
UID:2124-1761726600-1761775200@mynslba.com
SUMMARY:NSLBA Hot Drink With Lynn Candidates-Bebidas Calientes Con Los Candidatos de Lynn
DESCRIPTION:You are invited to join us – Estas invitado acompañarnos:\nDuring years of local elections\, the NSLBA traditionally showcases the candidates to the local business sector.\nTo discover their plans and discuss potential partnerships\, we welcome you to come enjoy a hot drink at the NSLBA location.\n~~~~\nDurante los años de elecciones locales\, la NSLBA generalmente presenta a los candidatos al sector empresarial local. Para conocer sus planes y discutir posibles colaboraciones\, le invitamos a disfrutar de una bebida caliente en las instalaciones de la NSLBA.\nHot Drink with Lynn Candidates\nBebidas Calientes con los Candidatos de Lynn\nCity Council at Large – Consejales Generales\nWard-Zona 1 / Ward – Zona 5 / Ward-Zona 7\nLynn School Committee – Comité Escolar de Lynn\nCoffee – Café <>Hot Chocolate | Chocolate Caliente\nTea | Té <>Hot lemonade | Limonada Caliente\n>Wednesday – Miercoles 10/29/2025 @ 8:30 AM\n>NSLBA 33 Sutton St. Lynn MA\n›RSVP/Reserve su Asiento: 781-596-8300
URL:https://mynslba.com/event/nslba-hot-drink-with-lynn-candidates-bebidas-calientes-con-los-candidatos-de-lynn/
LOCATION:North Shore Latino Business Association Office\, 33 Sutton Street\, Lynn\, MA\, 01901\, United States
ATTACH;FMTTYPE=image/jpeg:https://mynslba.com/wp-content/uploads/2025/10/WhatsApp-Image-2025-10-21-at-4.25.11-PM.jpeg
END:VEVENT
END:VCALENDAR