BEGIN:VCALENDAR
VERSION:2.0
PRODID:-//North Shore Latino Business - ECPv6.15.20//NONSGML v1.0//EN
CALSCALE:GREGORIAN
METHOD:PUBLISH
X-WR-CALNAME:North Shore Latino Business
X-ORIGINAL-URL:https://mynslba.com
X-WR-CALDESC:Events for North Shore Latino Business
REFRESH-INTERVAL;VALUE=DURATION:PT1H
X-Robots-Tag:noindex
X-PUBLISHED-TTL:PT1H
BEGIN:VTIMEZONE
TZID:UTC
BEGIN:STANDARD
TZOFFSETFROM:+0000
TZOFFSETTO:+0000
TZNAME:UTC
DTSTART:20240101T000000
END:STANDARD
END:VTIMEZONE
BEGIN:VEVENT
DTSTART;TZID=UTC:20251204T090000
DTEND;TZID=UTC:20260115T170000
DTSTAMP:20260425T210044
CREATED:20251204T190807Z
LAST-MODIFIED:20251229T214706Z
UID:2214-1764838800-1768496400@mynslba.com
SUMMARY:NSLBA-Center Business Of Hard Knocks Program
DESCRIPTION:NSLBA-Center: BUSINESS OF HARD KNOCKS PROGRAM; (12 Thursdays) starts third week of January\, 2026 Commitment: 12 Weeks) \nProgram for the reintegration of citizens and families affected by the justice system (ex-inmates or immediate family member). This incubator will function as a fundamental resource center\, offering participants personalized support to launch or expand their entrepreneurial initiatives using a field-tested curriculum. This course is hybrid (in-person and online) and 4 weeks of one-on-one support. \nUpon completion of the program\, each participant will receive a stipend of $1\,500.00. For more information 781-596-8300 \n#nslbaandcenter #nslbcenter #businessofhardknocks #exinmate #justicesystem #immediatelyfamily #startup #establishedbusiness #hybridprogram #greatopportunity #twelveweeks @cityoflynn @edic @roadscg
URL:https://mynslba.com/event/nslba-center-business-of-hard-knocks-program/
LOCATION:North Shore Latino Business Association Office\, 33 Sutton Street\, Lynn\, MA\, 01901\, United States
ATTACH;FMTTYPE=image/jpeg:https://mynslba.com/wp-content/uploads/2025/12/NSLBA-business-of-hard-knocks-Program.jpg
END:VEVENT
END:VCALENDAR