BEGIN:VCALENDAR
VERSION:2.0
PRODID:-//North Shore Latino Business - ECPv6.15.20//NONSGML v1.0//EN
CALSCALE:GREGORIAN
METHOD:PUBLISH
X-WR-CALNAME:North Shore Latino Business
X-ORIGINAL-URL:https://mynslba.com
X-WR-CALDESC:Events for North Shore Latino Business
REFRESH-INTERVAL;VALUE=DURATION:PT1H
X-Robots-Tag:noindex
X-PUBLISHED-TTL:PT1H
BEGIN:VTIMEZONE
TZID:UTC
BEGIN:STANDARD
TZOFFSETFROM:+0000
TZOFFSETTO:+0000
TZNAME:UTC
DTSTART:20250101T000000
END:STANDARD
END:VTIMEZONE
BEGIN:VEVENT
DTSTART;TZID=UTC:20260121T183000
DTEND;TZID=UTC:20260121T200000
DTSTAMP:20260425T210044
CREATED:20251231T143330Z
LAST-MODIFIED:20251231T143330Z
UID:2274-1769020200-1769025600@mynslba.com
SUMMARY:NSLBA 2026 Business Mixer
DESCRIPTION:Meet • Mingle • Connect Your BusinessConozca gente • Interactúe • Conecte su negocio \nJoin Us | Acompáñenos \nExplore exciting opportunities and boost your business growth.Connect with fellow entrepreneurs\, foster collaboration\, and expand your professional network.Don’t miss this incredible opportunity to build valuable business connections. \nExplora nuevas oportunidades e impulsa el crecimiento de tu negocio.Interactúa con otros emprendedores\, fomenta la colaboración y amplía tu red de contactos.No dejes pasar esta oportunidad única para crear conexiones valiosas. \nWednesday | MiércolesJanuary 21\, 2026 | 01/21/2026 \n6:30 PM – 8:00 PM \nLocation | UbicaciónNSLBA33 Sutton St.Lynn\, MA 01901 \nInfo: 781-596-8300
URL:https://mynslba.com/event/nslba-2026-business-mixer/
LOCATION:North Shore Latino Business Association Office\, 33 Sutton Street\, Lynn\, MA\, 01901\, United States
ATTACH;FMTTYPE=image/jpeg:https://mynslba.com/wp-content/uploads/2025/12/NSLBA-2026-Business-Mixer-1.21.2026.jpg
END:VEVENT
END:VCALENDAR