BEGIN:VCALENDAR
VERSION:2.0
PRODID:-//North Shore Latino Business - ECPv6.15.20//NONSGML v1.0//EN
CALSCALE:GREGORIAN
METHOD:PUBLISH
X-ORIGINAL-URL:https://mynslba.com
X-WR-CALDESC:Events for North Shore Latino Business
REFRESH-INTERVAL;VALUE=DURATION:PT1H
X-Robots-Tag:noindex
X-PUBLISHED-TTL:PT1H
BEGIN:VTIMEZONE
TZID:UTC
BEGIN:STANDARD
TZOFFSETFROM:+0000
TZOFFSETTO:+0000
TZNAME:UTC
DTSTART:20250101T000000
END:STANDARD
END:VTIMEZONE
BEGIN:VEVENT
DTSTART;TZID=UTC:20260205T163000
DTEND;TZID=UTC:20260205T173000
DTSTAMP:20260425T192206
CREATED:20260202T203337Z
LAST-MODIFIED:20260202T203546Z
UID:2321-1770309000-1770312600@mynslba.com
SUMMARY:LA VIDA SCHOLARS Official Grand Opening & Ribbon Cutting Ceremony
DESCRIPTION:The North Shore Latino Business Association cordially invited you to join us\nfor the official Ribbon Cutting Ceremony of:\nLA VIDA SCHOLARS\nNew office location 110 Munroe St. Lynn MA\nThursday February 5th\, 2026 at 4:30 PM\nwww.lavidascholars.org \nLa Asociación de Comercio North Shore Latino Business Association le  invitamos\ncordialmente a unirse a nosotros para la ceremonia oficial corte de cinta:\nLA VIDA SCHOLARS\nNueva oficina: 110 Munroe St.\, Lynn\, MA\nJueves\, 5 de febrero de 2026\, 4:30 h\nwww.lavidascholars.org
URL:https://mynslba.com/event/la-vidas-scholars-official-grand-opening-ribbon-cutting-ceremony/
LOCATION:LA VIDA SCHOLARS\, 110 Munroe St.\, Lynn\, MA\, 01902\, United States
ATTACH;FMTTYPE=image/jpeg:https://mynslba.com/wp-content/uploads/2026/02/unnamed-3.jpg
END:VEVENT
END:VCALENDAR