BEGIN:VCALENDAR
VERSION:2.0
PRODID:-//North Shore Latino Business - ECPv6.15.20//NONSGML v1.0//EN
CALSCALE:GREGORIAN
METHOD:PUBLISH
X-ORIGINAL-URL:https://mynslba.com
X-WR-CALDESC:Events for North Shore Latino Business
REFRESH-INTERVAL;VALUE=DURATION:PT1H
X-Robots-Tag:noindex
X-PUBLISHED-TTL:PT1H
BEGIN:VTIMEZONE
TZID:UTC
BEGIN:STANDARD
TZOFFSETFROM:+0000
TZOFFSETTO:+0000
TZNAME:UTC
DTSTART:20250101T000000
END:STANDARD
END:VTIMEZONE
BEGIN:VEVENT
DTSTART;TZID=UTC:20260223T100000
DTEND;TZID=UTC:20260227T120000
DTSTAMP:20260425T174214
CREATED:20260202T215308Z
LAST-MODIFIED:20260202T215308Z
UID:2328-1771840800-1772193600@mynslba.com
SUMMARY:NSLBA-CURSO MERCADEO DIGITAL EXPRESS EN ESPAÑOL 
DESCRIPTION:Aprenderas aumentar el tráfico y visibilidad de tu negocio en redes\nsociales\, la clave es publicar contenido de alto valor\, ser constante y\nutilizar estrategias enfocadas en la audiencia.\n1 Semana del 23 al 27 de febrero\, 2026\nHorario 10:00 AM – 12:00 PM\nLugar: NSLBA 33 Sutton St. Lynn MA\nNSLBA Miembros ¡Gratis!\nDueño o Gerente de Negocio (Solamente)\nPresentado por @rededi_inc -Jhofely de la Cruz\nRegistrese Aqui:\nhttps://www.zeffy.com/en-US/ticketing/curso-las-bases-del-mercadeo-digital\nInfo: 781-596-8300
URL:https://mynslba.com/event/nslba-curso-mercadeo-digital-express-en-espanol/
LOCATION:North Shore Latino Business Association Office\, 33 Sutton Street\, Lynn\, MA\, 01901\, United States
ATTACH;FMTTYPE=image/png:https://mynslba.com/wp-content/uploads/2026/02/6a1b0487-4c2e-4186-ac34-bd39a90b3720.png
END:VEVENT
BEGIN:VEVENT
DTSTART;TZID=UTC:20260226T180000
DTEND;TZID=UTC:20260226T200000
DTSTAMP:20260425T174214
CREATED:20260212T190151Z
LAST-MODIFIED:20260212T190330Z
UID:2347-1772128800-1772136000@mynslba.com
SUMMARY:Taller: Contabilidad Practica Para Empresas
DESCRIPTION:Aprende a organizar y manejar las finanzas de tu negocio de forma clara y práctica. Este taller está diseñado para dueños de empresas que desean entender mejor sus números\, mejorar su flujo de efectivo y maximizar deducciones de impuestos a través de una contabilidad bien estructurada.\nQué Aprenderás:\n* Cómo organizar y manejar las finanzas de tu negocio de manera eficiente (usando herramientas como QuickBooks).\n* Cómo entender mejor tus ingresos\, gastos y flujo de efectivo\n* Errores comunes de contabilidad que le cuestan dinero a los negocios y cómo evitarlos.\n* Cómo una buena organización financiera ayuda a maximizar deducciones de impuestos.\n* Cómo leer e interpretar reportes financieros clave (P&L\, Balance)\nPresentado por Eddy Montoya\nEspecialista en Bookkeeping y QuickBooks | AMIGO\nKEEPER BOOKKEEPING & IT SOLUTIONS\nRegistrese: https://www.zeffy.com/en-US/ticketing/ contabilidad-practica-para-empresas
URL:https://mynslba.com/event/contabilidad-practica-para-empresas/
LOCATION:North Shore Latino Business Association Office\, 33 Sutton Street\, Lynn\, MA\, 01901\, United States
ATTACH;FMTTYPE=image/jpeg:https://mynslba.com/wp-content/uploads/2026/02/WhatsApp-Image-2026-02-12-at-1.56.29-PM-1.jpeg
END:VEVENT
END:VCALENDAR