BEGIN:VCALENDAR
VERSION:2.0
PRODID:-//North Shore Latino Business - ECPv6.15.20//NONSGML v1.0//EN
CALSCALE:GREGORIAN
METHOD:PUBLISH
X-ORIGINAL-URL:https://mynslba.com
X-WR-CALDESC:Events for North Shore Latino Business
REFRESH-INTERVAL;VALUE=DURATION:PT1H
X-Robots-Tag:noindex
X-PUBLISHED-TTL:PT1H
BEGIN:VTIMEZONE
TZID:UTC
BEGIN:STANDARD
TZOFFSETFROM:+0000
TZOFFSETTO:+0000
TZNAME:UTC
DTSTART:20250101T000000
END:STANDARD
END:VTIMEZONE
BEGIN:VEVENT
DTSTART;TZID=UTC:20260320T120000
DTEND;TZID=UTC:20260320T130000
DTSTAMP:20260425T191436
CREATED:20260317T164015Z
LAST-MODIFIED:20260317T164035Z
UID:2380-1774008000-1774011600@mynslba.com
SUMMARY:Estefany's Fruit & Multiservices Official Grand Opening & Ribbon Cutting Ceremony
DESCRIPTION:The North Shore Latino Business Association invites you to join us at the Official Grand Opening & Ribbon Cutting Ceremony for our members of:\nEstefany’s Fruit & Multiservices\nFriday March 20\, 2026 @ 12:00 PM\nAddress: 172 Chestnut Street. Lynn MA\n~~~~~~~~~~~~~~~~~~~\nAcompañanos a la ocasión especial de la Apertura Oficial y Ceremonia Corte de Cinta de nuestros miembros:\nEstefany’s Fruit & Multiservices\nViernes 20 de Marzo\, 2026\nDirección: 172 Chestnut Street. Lynn MA
URL:https://mynslba.com/event/estefanys-fruit-multiservices-official-grand-opening-ribbon-cutting-ceremony/
LOCATION:Estefany’s Fruit & Multiservices\, 172 Chestnut Street. Lynn MA\, Lynn\, MA\, 01905\, United States
ATTACH;FMTTYPE=image/jpeg:https://mynslba.com/wp-content/uploads/2026/03/WhatsApp-Image-2026-03-17-at-12.26.06-PM.jpeg
END:VEVENT
END:VCALENDAR