BEGIN:VCALENDAR
VERSION:2.0
PRODID:-//North Shore Latino Business - ECPv6.15.20//NONSGML v1.0//EN
CALSCALE:GREGORIAN
METHOD:PUBLISH
X-WR-CALNAME:North Shore Latino Business
X-ORIGINAL-URL:https://mynslba.com
X-WR-CALDESC:Events for North Shore Latino Business
REFRESH-INTERVAL;VALUE=DURATION:PT1H
X-Robots-Tag:noindex
X-PUBLISHED-TTL:PT1H
BEGIN:VTIMEZONE
TZID:UTC
BEGIN:STANDARD
TZOFFSETFROM:+0000
TZOFFSETTO:+0000
TZNAME:UTC
DTSTART:20250101T000000
END:STANDARD
END:VTIMEZONE
BEGIN:VEVENT
DTSTART;TZID=UTC:20260330T100000
DTEND;TZID=UTC:20260403T120000
DTSTAMP:20260425T154410
CREATED:20260120T193938Z
LAST-MODIFIED:20260309T165354Z
UID:2301-1774864800-1775217600@mynslba.com
SUMMARY:NSLBA Las Bases del Mercadeo Digital
DESCRIPTION:La North Shore Latino Business Association (NSLBA) te invita a participar en el curso “Las Bases del Mercadeo Digital”\, diseñado para emprendedores y dueños de negocios que desean fortalecer su presencia digital y atraer más clientes de manera estratégica. \nFecha:Del lunes 30 de Marzo al viernes 3 de Abril \nHorario:10:00 a.m. – 12:00 p.m. \n Durante este curso aprenderás a:✔ Dominar los fundamentos del mercadeo digital✔ Crear un mensaje claro\, auténtico y efectivo✔ Atraer clientes de forma estratégica✔ Fortalecer la visibilidad de tu negocio \nCosto: ¡GRATIS!(Exclusivo para miembros de NSLBA) \nRegístrate ahora escaneando el código QR para más información. \nNo pierdas esta oportunidad de impulsar tu negocio con herramientas prácticas y conocimientos clave del mercadeo digital.
URL:https://mynslba.com/event/nslba-las-bases-del-mercadeo-digital/
LOCATION:North Shore Latino Business Association Office\, 33 Sutton Street\, Lynn\, MA\, 01901\, United States
ATTACH;FMTTYPE=image/png:https://mynslba.com/wp-content/uploads/2026/01/ChatGPT-Image-Mar-9-2026-12_45_01-PM-1.png
END:VEVENT
BEGIN:VEVENT
DTSTART;TZID=UTC:20260330T123000
DTEND;TZID=UTC:20260330T133000
DTSTAMP:20260425T154410
CREATED:20260324T193357Z
LAST-MODIFIED:20260324T193357Z
UID:2400-1774873800-1774877400@mynslba.com
SUMMARY:Tres Perritos Gourmet Official Grand Ribbon-Cutting Ceremony
DESCRIPTION:The North Shore Latino Business Association invites you to come join us and our new members for the Official Grand Opening & Ribbon Cutting Ceremony of “Tres Perritos Gourmet” on March 30\, 2026. \nLa Asociación de Comerciantes Latinos del North Shore los invita celebrar con nosotros y nuestros miembros para la Gran Ceremonia de Inauguración de “Tres Perritos Gourmet” el 30 de Marzo del 2026.
URL:https://mynslba.com/event/tres-perritos-gourmet-official-grand-ribbon-cutting-ceremony/
LOCATION:Tres Perritos Gourmet\, 117 Munroe St.\, Lynn\, MA\, 01905\, United States
ATTACH;FMTTYPE=image/jpeg:https://mynslba.com/wp-content/uploads/2026/03/Tres-Perritos-Gourmet-3.30.2026-Grand-Opening.jpg
END:VEVENT
BEGIN:VEVENT
DTSTART;TZID=UTC:20260330T140000
DTEND;TZID=UTC:20260330T160000
DTSTAMP:20260425T154410
CREATED:20260319T201220Z
LAST-MODIFIED:20260319T201220Z
UID:2387-1774879200-1774886400@mynslba.com
SUMMARY:Workshop Income Tax & Self-Employment - Impuesto Sobre la Renta y Trabajo por Cuenta Propia
DESCRIPTION:This workshop is designed for small business owners and self-employed individuals\, offering key tips on income tax and self-employment. It covers topics such as estimated payments\, 1099 forms\, recordkeeping\, and how to avoid issues with the IRS\, helping you better prepare for tax season. \n~~~~~~~~~~ \nEste taller está dirigido a dueños de pequeñas empresas y trabajadores independientes\, y ofrece consejos clave sobre impuestos sobre la renta y trabajo por cuenta propia. Cubre temas como pagos estimados\, formularios 1099\, mantenimiento de registros y cómo evitar problemas con el IRS\, ayudando a prepararse mejor para la temporada de impuestos.
URL:https://mynslba.com/event/workshop-income-tax-self-employment-impuesto-sobre-la-renta-y-trabajo-por-cuenta-propia/
LOCATION:North Shore Latino Business Association Office\, 33 Sutton Street\, Lynn\, MA\, 01901\, United States
ATTACH;FMTTYPE=image/jpeg:https://mynslba.com/wp-content/uploads/2026/03/Untitled-design-4.jpg
END:VEVENT
BEGIN:VEVENT
DTSTART;TZID=UTC:20260330T180000
DTEND;TZID=UTC:20260330T200000
DTSTAMP:20260425T154410
CREATED:20260206T171008Z
LAST-MODIFIED:20260227T170840Z
UID:2335-1774893600-1774900800@mynslba.com
SUMMARY:Clean Energy Trades Business Accelerator
DESCRIPTION:¡REGISTRATE AHORA!- REGISTER NOW!\nComercio de Energia Limpia | Clean Energy Trades\nAcelerador de Negocios | Business Accelerator\nFunded by Financiado por: MASSCEC\nDesarrolla tu cartera de proyectos\, consigue contratos y CRECE en energía limpia.\nUn programa acelerador de 12 semanas para pequeñas empresas comerciales listas para participar en oportunidades de contratación en energía limpia.\nPARA QUIÉN ES: • Construcción • Electricidad • Plomeria\n* HVAC: Calefacción | Ventilatión | Acondicionado\n* Servicios de Energía • Comercios Relacionados\nApoyo para obtener la certificación MBE\nHerramientas prácticas\, plantillas y prácticas guiadas\nConexión con socios y tomadores de decisiones en energía limpia\nLos participantes que completen el programa con éxito podrán recibir estipendios de hasta $1\,500.00\nPropietarios que buscan expandirse a la cadena de suministro de energía limpia\, esta es una gran oportunidad para comenzar. \n~~~~~~~~~~~~~~~~~~~~~~~~~~ \nBuild your pipeline\, win contracts\, and GROW in clean energy.\nA 12-week accelerator for trade-based small businesses ready to complete for clean energy contracting opportunities.\nWHO IT’S FOR: • Construction • Electrical •Plumbing\n* HVAC: Heating | Ventilation | Air Conditioning\n* Energy Services • Related Businesses\nSupport Pursuing MBE Certification\nReal-world tools\, templates\, and guided practice\nConnection to clean energy partners and decision-makers\nParticipants who successfully complete the program are eligible for stipends up to $1\,500.00\nOwners looking to expand into clean energy supply chain this is a great opportunity to get you started
URL:https://mynslba.com/event/clean-energy-trades/
LOCATION:North Shore Latino Business Association Office\, 33 Sutton Street\, Lynn\, MA\, 01901\, United States
ATTACH;FMTTYPE=image/jpeg:https://mynslba.com/wp-content/uploads/2026/02/WhatsApp-Image-2026-02-23-at-4.15.17-PM.jpeg
END:VEVENT
END:VCALENDAR