BEGIN:VCALENDAR
VERSION:2.0
PRODID:-//North Shore Latino Business - ECPv6.15.20//NONSGML v1.0//EN
CALSCALE:GREGORIAN
METHOD:PUBLISH
X-WR-CALNAME:North Shore Latino Business
X-ORIGINAL-URL:https://mynslba.com
X-WR-CALDESC:Events for North Shore Latino Business
REFRESH-INTERVAL;VALUE=DURATION:PT1H
X-Robots-Tag:noindex
X-PUBLISHED-TTL:PT1H
BEGIN:VTIMEZONE
TZID:UTC
BEGIN:STANDARD
TZOFFSETFROM:+0000
TZOFFSETTO:+0000
TZNAME:UTC
DTSTART:20250101T000000
END:STANDARD
END:VTIMEZONE
BEGIN:VEVENT
DTSTART;TZID=UTC:20260404T110000
DTEND;TZID=UTC:20260404T120000
DTSTAMP:20260425T153458
CREATED:20260401T165100Z
LAST-MODIFIED:20260401T165100Z
UID:2416-1775300400-1775304000@mynslba.com
SUMMARY:Suegra's Molino Lounge Official Grand Ribbon-Cutting Ceremony
DESCRIPTION:The North Shore Latino Business Association invites you to come join us and our new members for the Official Grand Opening & Ribbon Cutting Ceremony of  “Suegra’s Molino Lounge” on April 04\, 2026. \nLa Asociación de Comerciantes Latinos del North Shore los invita celebrar con nosotros y nuestros miembros para la Gran Ceremonia de Inauguración de “Suegra’s Molino Lounge” el 04 de Abril del 2026.
URL:https://mynslba.com/event/suegras-molino-lounge-official-grand-ribbon-cutting-ceremony/
LOCATION:Suegra’s Molino Lounge\, 937 Wester Ave.\, Lynn\, MA\, 01905\, United States
ATTACH;FMTTYPE=image/jpeg:https://mynslba.com/wp-content/uploads/2026/04/WhatsApp-Image-2026-04-01-at-12.30.00-PM.jpeg
END:VEVENT
END:VCALENDAR