BEGIN:VCALENDAR
VERSION:2.0
PRODID:-//North Shore Latino Business - ECPv6.15.20//NONSGML v1.0//EN
CALSCALE:GREGORIAN
METHOD:PUBLISH
X-WR-CALNAME:North Shore Latino Business
X-ORIGINAL-URL:https://mynslba.com
X-WR-CALDESC:Events for North Shore Latino Business
REFRESH-INTERVAL;VALUE=DURATION:PT1H
X-Robots-Tag:noindex
X-PUBLISHED-TTL:PT1H
BEGIN:VTIMEZONE
TZID:UTC
BEGIN:STANDARD
TZOFFSETFROM:+0000
TZOFFSETTO:+0000
TZNAME:UTC
DTSTART:20250101T000000
END:STANDARD
END:VTIMEZONE
BEGIN:VEVENT
DTSTART;TZID=UTC:20260413T120000
DTEND;TZID=UTC:20260413T140000
DTSTAMP:20260425T153651
CREATED:20260406T190905Z
LAST-MODIFIED:20260406T190905Z
UID:2455-1776081600-1776088800@mynslba.com
SUMMARY:Independent Contractor Law & Employee Classification
DESCRIPTION:Are you hiring workers for your business? Join our workshop on Independent Contractor Law & Employee Classification and learn about Massachusetts laws and employer responsibilities. \n📅 13 de April de 2026\n🕛 12:00 PM\n📍 NSLBA – 33 Sutton St\, Lynn\, MA \n¿Está contratando trabajadores para su negocio? Únase a nuestro taller sobre Ley de Contratistas Independientes y Clasificación de Empleados\, donde abogados expertos explicarán las leyes en Massachusetts y cómo cumplir con las regulaciones laborales. \n📅 13 de Abril 2026\n🕛 12:00 PM\n📍 NSLBA – 33 Sutton St\, Lynn\, MA
URL:https://mynslba.com/event/independent-contractor-law-employee-classification/
LOCATION:North Shore Latino Business Association Office\, 33 Sutton Street\, Lynn\, MA\, 01901\, United States
ATTACH;FMTTYPE=image/jpeg:https://mynslba.com/wp-content/uploads/2026/04/WhatsApp-Image-2026-04-06-at-2.50.30-PM.jpeg
END:VEVENT
END:VCALENDAR