BEGIN:VCALENDAR
VERSION:2.0
PRODID:-//North Shore Latino Business - ECPv6.15.20//NONSGML v1.0//EN
CALSCALE:GREGORIAN
METHOD:PUBLISH
X-ORIGINAL-URL:https://mynslba.com
X-WR-CALDESC:Events for North Shore Latino Business
REFRESH-INTERVAL;VALUE=DURATION:PT1H
X-Robots-Tag:noindex
X-PUBLISHED-TTL:PT1H
BEGIN:VTIMEZONE
TZID:UTC
BEGIN:STANDARD
TZOFFSETFROM:+0000
TZOFFSETTO:+0000
TZNAME:UTC
DTSTART:20250101T000000
END:STANDARD
END:VTIMEZONE
BEGIN:VEVENT
DTSTART;TZID=UTC:20260427T040000
DTEND;TZID=UTC:20260427T170000
DTSTAMP:20260425T155546
CREATED:20260421T155901Z
LAST-MODIFIED:20260424T145543Z
UID:2536-1777262400-1777309200@mynslba.com
SUMMARY:Taller: "Ley de Contratista Independiente" Workshop: "Independent Contractor Law & Employee Classification"
DESCRIPTION:¿Está contratando trabajadores para su negocio?\nAcompañe a abogados especializados en derecho empresarial en este seminario informa-tivo\, centrado en las leyes y regulaciones de clasificación de empleados a nivel federal y del estado de Massachusetts. Esta sesión ofrecerá orientación sobre cómo distinguir entre contratistas independientes y empleados\, comprender las responsabilidades del empleador y reconocer las protecciones legales otorgadas a los empleados.\nAre you hiring workers for your business?\nJoin business attorneys for this informative session focused on Massachusetts and federal employee classification laws and regulations. This session will provide guidance on distin-guishing between independent contractors and employees\, understanding employer re-sponsibilities\, and recognizing the legal protections afforded to employees
URL:https://mynslba.com/event/workshop-independent-contractor-law-employee-classification/
LOCATION:MA
ATTACH;FMTTYPE=image/jpeg:https://mynslba.com/wp-content/uploads/2026/04/WhatsApp-Image-2026-04-21-at-11.26.15-AM.jpeg
END:VEVENT
END:VCALENDAR