BEGIN:VCALENDAR
VERSION:2.0
PRODID:-//North Shore Latino Business - ECPv6.15.20//NONSGML v1.0//EN
CALSCALE:GREGORIAN
METHOD:PUBLISH
X-ORIGINAL-URL:https://mynslba.com
X-WR-CALDESC:Events for North Shore Latino Business
REFRESH-INTERVAL;VALUE=DURATION:PT1H
X-Robots-Tag:noindex
X-PUBLISHED-TTL:PT1H
BEGIN:VTIMEZONE
TZID:UTC
BEGIN:STANDARD
TZOFFSETFROM:+0000
TZOFFSETTO:+0000
TZNAME:UTC
DTSTART:20250101T000000
END:STANDARD
END:VTIMEZONE
BEGIN:VEVENT
DTSTART;TZID=UTC:20260428T173000
DTEND;TZID=UTC:20260428T190000
DTSTAMP:20260425T155535
CREATED:20260414T172450Z
LAST-MODIFIED:20260414T172927Z
UID:2505-1777397400-1777402800@mynslba.com
SUMMARY:NSLBA Business of Hard Knocks Program Graduation
DESCRIPTION:The 3.1 Cohort of the Business of Hard Knocks Program\n\non Tuesday April 28\, 2025 at 5:30 PM.Join us in celebrating the hard work and commitment of our graduates at the North Shore Latino Business Association Center\, \n\n\nlocated at 33 Sutton St.\, Lynn\, MA.We eagerly anticipate your  presence as we honor and recognize the achievements of the participants of the Business of Hard Knocks program. \n\n_________\n\nLa 3.1 cohorte del Programa Business of Hard Knocks celebrará su graduación el Martes 28 de Abril  2026 a las 5:30 PM.\nAcompáñenos a celebrar el arduo trabajo y el compromiso de nuestros graduados en el Centroy la Asociación de Negocios North Shore Latino Business Association\nubicado en 33 Sutton St.\, Lynn\, MA.\nEsperamos con entusiasmo su presencia para honrar y reconocer los logros de los participantes del Programa Negocios de la Vida.
URL:https://mynslba.com/event/nslba-business-of-hard-knocks-program-graduation-2/
LOCATION:North Shore Latino Business Association Office\, 33 Sutton Street\, Lynn\, MA\, 01901\, United States
ATTACH;FMTTYPE=image/jpeg:https://mynslba.com/wp-content/uploads/2026/04/BHK-Graduation-Post-4.28.2026.jpg
END:VEVENT
END:VCALENDAR