BEGIN:VCALENDAR
VERSION:2.0
PRODID:-//North Shore Latino Business - ECPv6.15.20//NONSGML v1.0//EN
CALSCALE:GREGORIAN
METHOD:PUBLISH
X-ORIGINAL-URL:https://mynslba.com
X-WR-CALDESC:Events for North Shore Latino Business
REFRESH-INTERVAL;VALUE=DURATION:PT1H
X-Robots-Tag:noindex
X-PUBLISHED-TTL:PT1H
BEGIN:VTIMEZONE
TZID:UTC
BEGIN:STANDARD
TZOFFSETFROM:+0000
TZOFFSETTO:+0000
TZNAME:UTC
DTSTART:20250101T000000
END:STANDARD
END:VTIMEZONE
BEGIN:VEVENT
DTSTART;TZID=UTC:20260731T180000
DTEND;TZID=UTC:20260801T230000
DTSTAMP:20260425T204032
CREATED:20260421T163115Z
LAST-MODIFIED:20260421T163248Z
UID:2545-1785520800-1785625200@mynslba.com
SUMMARY:NSLBA~All In White Cruise 2026
DESCRIPTION:Want to Network and have fun? Come and join us! Let’s enjoy the summer with our business colleagues and friends\, all dressed in white. If you are interested in learning more\, click on the link provided to see more information. \nQuiere conectarse y divertirse? Acompañenos! Disfrutemos el verano con nuestros colegas de negocios y amigos\, todos vestidos de blanco. Si está interesado en obtener más información\, haga clic en el enlace proporcionado para ver más información.
URL:https://mynslba.com/event/nslbaall-in-white-cruise-2026/
LOCATION:MA
ATTACH;FMTTYPE=image/jpeg:https://mynslba.com/wp-content/uploads/2026/04/WhatsApp-Image-2026-04-17-at-5.24.50-PM.jpeg
END:VEVENT
END:VCALENDAR