BEGIN:VCALENDAR
VERSION:2.0
PRODID:-//North Shore Latino Business - ECPv6.15.20//NONSGML v1.0//EN
CALSCALE:GREGORIAN
METHOD:PUBLISH
X-WR-CALNAME:North Shore Latino Business
X-ORIGINAL-URL:https://mynslba.com
X-WR-CALDESC:Events for North Shore Latino Business
REFRESH-INTERVAL;VALUE=DURATION:PT1H
X-Robots-Tag:noindex
X-PUBLISHED-TTL:PT1H
BEGIN:VTIMEZONE
TZID:UTC
BEGIN:STANDARD
TZOFFSETFROM:+0000
TZOFFSETTO:+0000
TZNAME:UTC
DTSTART:20250101T000000
END:STANDARD
END:VTIMEZONE
BEGIN:VEVENT
DTSTART;TZID=UTC:20260814T083000
DTEND;TZID=UTC:20260814T093000
DTSTAMP:20260426T002443
CREATED:20260402T155300Z
LAST-MODIFIED:20260402T155300Z
UID:2435-1786696200-1786699800@mynslba.com
SUMMARY:NSLBA Cafesote Networking Event
DESCRIPTION:Join us for the NSLBA CAFESOTE Networking Event! \nThis Friday\, August 14\, 2026\, at 225 Boston St. #202 floor 1.\nWe will meet at 8:30 AM\, and the event will last one hour. \nThis event is sponsored by MassHire NS Career. Please note that space is limited. \nReserve your spot by calling 781-596-8300 or emailing mynslba@gmail.com. \nAre you ready to take your business to the next level?\nTake the first step with NSLBA! \n><>< \n¡Únete a nosotros para el evento de la RED NSLBA CAFESOTE! \nEste viernes 14 de Agosto de 2026 en 225 Boston St. #202 floor 1.\nNos reuniremos a las 8:30 AM y el evento tendrá una duración de una hora. \nEste evento es patrocinado por Victoria Tax & Professional Services Inc. Ten en cuenta que el espacio es limitado. \nReserva tu espacio llamando al 781-596-8300 o escribiendo a mynslba@gmail.com. \n¿Estás listo para elevar tu negocio?\n¡Da el primer paso con NSLBA!
URL:https://mynslba.com/event/nslba-cafesote-networking-event-6/
LOCATION:Victoria Tax & Professional Services Inc.\, 225 Boston St. #202 floor 1\, Lynn\, MA\, 01904\, United States
END:VEVENT
END:VCALENDAR