BEGIN:VCALENDAR
VERSION:2.0
PRODID:-//North Shore Latino Business - ECPv6.15.20//NONSGML v1.0//EN
CALSCALE:GREGORIAN
METHOD:PUBLISH
X-ORIGINAL-URL:https://mynslba.com
X-WR-CALDESC:Events for North Shore Latino Business
REFRESH-INTERVAL;VALUE=DURATION:PT1H
X-Robots-Tag:noindex
X-PUBLISHED-TTL:PT1H
BEGIN:VTIMEZONE
TZID:UTC
BEGIN:STANDARD
TZOFFSETFROM:+0000
TZOFFSETTO:+0000
TZNAME:UTC
DTSTART:20240101T000000
END:STANDARD
END:VTIMEZONE
BEGIN:VEVENT
DTSTART;VALUE=DATE:20250928
DTEND;VALUE=DATE:20250929
DTSTAMP:20260426T041922
CREATED:20250311T205538Z
LAST-MODIFIED:20250902T205934Z
UID:1712-1759017600-1759103999@mynslba.com
SUMMARY:NSLBA 14th Annual Dinner Gala
DESCRIPTION:We are excited to invite you to the 14th NSLBA Gala Night on Sunday\, September 28\, 2025\, at the                      Danversport Harborview Ballroom at 5:00 p.m. This event promises an unforgettable evening with a VIP carpet\, entertainment\, a delightful dinner\, and engaging conversations. Join a diverse group of  professionals\,            entrepreneurs\, and community leaders as we celebrate the NSLBA’s growth to nearly 1\,000 members\,          featuring live music and a raffle with great prizes. Whether as a guest or sponsor\, the Gala Night is a fantastic opportunity to promote your business and support our community.\n\nSpecial Ceremony: Presentation of membership plaques to new members\n\nNSLBA Board of Directors 2025-2027\n\n2025 Awards: Business of the Year\, Business Man & Woman of the Year\, Nonprofit Organization of the Year\, NSLBA Activist/Community Leader of the Year.\nwww.nslba.com\n~~~~~~~~~~~~\n\nEstamos emocionados de invitarle a la 14ª Noche de Gala de la NSLBA el domingo 28 de septiembre  2025\, en el Ballroom Harborview de Danversport a las 5:00 p.m. Este evento promete una velada inolvidable con la    alfombra VIP\, entretenimiento\, una cena deliciosa y conversaciones interesantes. Únete a un grupo diverso de profesionales\, emprendedores y líderes comunitarios mientras celebramos el crecimiento de la NSLBA\, que ahora cuenta con casi 1\,000 miembros\, con música en vivo y una rifa con grandes premios. Ya sea como     invitado o patrocinador\, la Noche de Gala es una excelente oportunidad para promover tu negocio y apoyar a nuestra comunidad.\n\nCeremonia Especial: Entrega de placas de membresía a nuevos miembros\nJunta Directiva de NSLBA 2025-2027\nPremios 2025: Empresa del Año\, Hombre y Mujer del Año\, Organización Sin Fines de Lucro del Año\,     Activista/Líder Comunitario del Año de NSLBA.\nwww.nslba.com
URL:https://mynslba.com/event/nslba-14th-annual-dinner-gala/
CATEGORIES:Members Events
ATTACH;FMTTYPE=image/jpeg:https://mynslba.com/wp-content/uploads/2025/03/Gala-2025.jpeg
END:VEVENT
END:VCALENDAR