BEGIN:VCALENDAR
VERSION:2.0
PRODID:-//North Shore Latino Business - ECPv6.15.20//NONSGML v1.0//EN
CALSCALE:GREGORIAN
METHOD:PUBLISH
X-ORIGINAL-URL:https://mynslba.com
X-WR-CALDESC:Events for North Shore Latino Business
REFRESH-INTERVAL;VALUE=DURATION:PT1H
X-Robots-Tag:noindex
X-PUBLISHED-TTL:PT1H
BEGIN:VTIMEZONE
TZID:UTC
BEGIN:STANDARD
TZOFFSETFROM:+0000
TZOFFSETTO:+0000
TZNAME:UTC
DTSTART:20250101T000000
END:STANDARD
END:VTIMEZONE
BEGIN:VEVENT
DTSTART;TZID=UTC:20260427T040000
DTEND;TZID=UTC:20260427T170000
DTSTAMP:20260425T122048
CREATED:20260421T155901Z
LAST-MODIFIED:20260424T145543Z
UID:2536-1777262400-1777309200@mynslba.com
SUMMARY:Taller: "Ley de Contratista Independiente" Workshop: "Independent Contractor Law & Employee Classification"
DESCRIPTION:¿Está contratando trabajadores para su negocio?\nAcompañe a abogados especializados en derecho empresarial en este seminario informa-tivo\, centrado en las leyes y regulaciones de clasificación de empleados a nivel federal y del estado de Massachusetts. Esta sesión ofrecerá orientación sobre cómo distinguir entre contratistas independientes y empleados\, comprender las responsabilidades del empleador y reconocer las protecciones legales otorgadas a los empleados.\nAre you hiring workers for your business?\nJoin business attorneys for this informative session focused on Massachusetts and federal employee classification laws and regulations. This session will provide guidance on distin-guishing between independent contractors and employees\, understanding employer re-sponsibilities\, and recognizing the legal protections afforded to employees
URL:https://mynslba.com/event/workshop-independent-contractor-law-employee-classification/
LOCATION:MA
ATTACH;FMTTYPE=image/jpeg:https://mynslba.com/wp-content/uploads/2026/04/WhatsApp-Image-2026-04-21-at-11.26.15-AM.jpeg
END:VEVENT
BEGIN:VEVENT
DTSTART;TZID=UTC:20260428T173000
DTEND;TZID=UTC:20260428T190000
DTSTAMP:20260425T122048
CREATED:20260414T172450Z
LAST-MODIFIED:20260414T172927Z
UID:2505-1777397400-1777402800@mynslba.com
SUMMARY:NSLBA Business of Hard Knocks Program Graduation
DESCRIPTION:The 3.1 Cohort of the Business of Hard Knocks Program\n\non Tuesday April 28\, 2025 at 5:30 PM.Join us in celebrating the hard work and commitment of our graduates at the North Shore Latino Business Association Center\, \n\n\nlocated at 33 Sutton St.\, Lynn\, MA.We eagerly anticipate your  presence as we honor and recognize the achievements of the participants of the Business of Hard Knocks program. \n\n_________\n\nLa 3.1 cohorte del Programa Business of Hard Knocks celebrará su graduación el Martes 28 de Abril  2026 a las 5:30 PM.\nAcompáñenos a celebrar el arduo trabajo y el compromiso de nuestros graduados en el Centroy la Asociación de Negocios North Shore Latino Business Association\nubicado en 33 Sutton St.\, Lynn\, MA.\nEsperamos con entusiasmo su presencia para honrar y reconocer los logros de los participantes del Programa Negocios de la Vida.
URL:https://mynslba.com/event/nslba-business-of-hard-knocks-program-graduation-2/
LOCATION:North Shore Latino Business Association Office\, 33 Sutton Street\, Lynn\, MA\, 01901\, United States
ATTACH;FMTTYPE=image/jpeg:https://mynslba.com/wp-content/uploads/2026/04/BHK-Graduation-Post-4.28.2026.jpg
END:VEVENT
BEGIN:VEVENT
DTSTART;TZID=UTC:20260505T180000
DTEND;TZID=UTC:20260505T200000
DTSTAMP:20260425T122048
CREATED:20260423T205459Z
LAST-MODIFIED:20260423T205459Z
UID:2556-1778004000-1778011200@mynslba.com
SUMMARY:Business Of Hard Knocks Program
DESCRIPTION:El programa Business of Hard Knocks es un incubador empresarial de 12 semanas diseñado para ciudadanos y familias impactadas por el sistema de justicia. Este programa ofrece acompañamiento personalizado\, acceso a recursos clave y un currículo paso a paso para lanzar o hacer crecer un negocio. \nLas clases se llevarán a cabo en un modelo híbrido\, en español\, comenzando el 5 de mayo de 2026\, de 6:00 PM a 8:00 PM. Al finalizar el programa\, cada participante recibirá un incentivo de $1\,500. \n📅 Fecha límite para aplicar: 30 de abril de 2026\n📍 Ubicación: North Shore Latino Business Center\, Lynn\, MA \nThe Business of Hard Knocks program is a 12-week business incubator designed for individuals and families impacted by the justice system. This program provides personalized guidance\, access to valuable resources\, and a step-by-step curriculum to help participants start or grow a business. \nClasses will be offered in a hybrid format\, in Spanish\, starting on May 5\, 2026\, from 6:00 PM to 8:00 PM. Upon completion\, each participant will receive a $1\,500 stipend. \n📅 Application deadline: April 30\, 2026\n📍 Location: North Shore Latino Business Center\, Lynn\, MA
URL:https://mynslba.com/event/business-of-hard-knocks-program/
LOCATION:North Shore Latino Business Association Office\, 33 Sutton Street\, Lynn\, MA\, 01901\, United States
ATTACH;FMTTYPE=image/jpeg:https://mynslba.com/wp-content/uploads/2026/04/BHK-5.2026-New-Course.jpg
ORGANIZER;CN="North Shore Latino Business Asocciation":MAILTO:mynslba@gmail.com
END:VEVENT
BEGIN:VEVENT
DTSTART;TZID=UTC:20260507T190000
DTEND;TZID=UTC:20260507T193000
DTSTAMP:20260425T122048
CREATED:20260414T161351Z
LAST-MODIFIED:20260414T161458Z
UID:2495-1778180400-1778182200@mynslba.com
SUMMARY:Touchstone Closing & Escrow Official Grand Ribbon-Cutting Ceremony
DESCRIPTION:The North Shore Latino Business Association invites you to come join us and our new members for the Official Grand Opening & Ribbon Cutting Ceremony of “Touchstone Closing & Escrow” on May 7\, 2026. \nLa Asociación de Comerciantes Latinos del North Shore los invita celebrar con nosotros y nuestros miembros para la Gran Ceremonia de Inauguración de “Touchstone Closing & Escrow” el 7 de Mayo del 2026.
URL:https://mynslba.com/event/touchstone-closing-escrow/
LOCATION:Touchstone Closing & Escrow\, 85 Excahnge St. 4to floor\, Lynn\, MA\, 01901\, United States
ATTACH;FMTTYPE=image/jpeg:https://mynslba.com/wp-content/uploads/2026/04/TOUCHSTONE-RIBBON-CUTTING-5.7.2026.jpg
END:VEVENT
BEGIN:VEVENT
DTSTART;TZID=UTC:20260509T140000
DTEND;TZID=UTC:20260509T160000
DTSTAMP:20260425T122048
CREATED:20260414T173952Z
LAST-MODIFIED:20260414T175027Z
UID:2510-1778335200-1778342400@mynslba.com
SUMMARY:Dominican Republic Real Estate
DESCRIPTION: Ready to Own a Piece of Paradise? \nHadassah Homes invites you to an exclusive session for those who have dreamed of owning property in the Caribbean (Dominican Republic) — your gateway to PARADISE!\nWhether you’re looking for a vacation home\, investment property\, or a new lifestyle\, we are here to guide you every step of the way.\n We’ll bridge the gap from Massachusetts to the DR\n Walk you through the entire buying process\n Provide resources to help you maximize income through short-term rentals\n Show you how to turn your dream into a profitable investment\nThis is more than just a purchase — it’s an opportunity to build wealth while enjoying island living \n Reserve your spot today:\nhttps://www.eventbrite.com/e/1986844374007?aff=oddtdtcreator⁠�\nSpots are limited — don’t miss your chance to invest where others vacation!\n#HadassahHomes #RealEstateInvesting #DominicanRepublic #CaribbeanLiving #ShortTermRentals #BuildWealth #ParadiseLiving\n ¿Listo para tener tu propio pedazo de paraíso? \nHadassah Homes te invita a una sesión exclusiva para quienes han soñado con tener una propiedad en el Caribe (República Dominicana) — ¡tu puerta de entrada al PARAÍSO!\nYa sea que busques una casa de vacaciones\, una propiedad de inversión o un nuevo estilo de vida\, estamos aquí para guiarte en cada paso del camino.\n Cerramos la brecha entre Massachusetts y la RD\n Te acompañamos durante todo el proceso de compra\n Te brindamos recursos para generar ingresos con alquileres a corto plazo\n Te mostramos cómo convertir tu sueño en una inversión rentable\nEsto es más que una compra — es una oportunidad para crear riqueza mientras disfrutas de la vida en la isla \n Reserva tu lugar hoy:\nhttps://www.eventbrite.com/e/1986844374007?aff=oddtdtcreator⁠�\nLos espacios son limitados — ¡no pierdas la oportunidad de invertir donde otros vacacionan!\n#HadassahHomes #InversionInmobiliaria #RepublicaDominicana #VidaEnElCaribe #AlquileresCortoPlazo #CrearRiqueza #VivirEnElParaiso
URL:https://mynslba.com/event/2510/
LOCATION:North Shore Latino Business Association Office\, 33 Sutton Street\, Lynn\, MA\, 01901\, United States
ATTACH;FMTTYPE=image/jpeg:https://mynslba.com/wp-content/uploads/2026/04/Hadassah-Homes-Presentation-5.9.2026.jpg
END:VEVENT
BEGIN:VEVENT
DTSTART;TZID=UTC:20260514T163000
DTEND;TZID=UTC:20260514T173000
DTSTAMP:20260425T122048
CREATED:20260421T153828Z
LAST-MODIFIED:20260421T154605Z
UID:2525-1778776200-1778779800@mynslba.com
SUMMARY:NSLBA- Protect your family\, your business\, and your legacy.
DESCRIPTION:English \nJoin our Estate Planning Seminar to learn how wills\, trusts\, and key documents can safeguard what you’ve worked hard to build as a Latino entrepreneur.\nThursday May 14th\, 2026 at 4:30 PM (English)\nLocation: NSLBA 33 Sutton St. Lynn MA\nyou’ll hear from trusted professionals about:\n•Basic tools of estate planning\n•How to plan for your business and loved ones\n* Questions to ask your lawyer or advisor\nRegister to secure your seat.
URL:https://mynslba.com/event/nslba-protect-your-family-your-business-and-your-legacy/
LOCATION:North Shore Latino Business Association Office\, 33 Sutton Street\, Lynn\, MA\, 01901\, United States
ATTACH;FMTTYPE=image/jpeg:https://mynslba.com/wp-content/uploads/2026/04/WhatsApp-Image-2026-04-21-at-11.26.16-AM-1.jpeg
END:VEVENT
BEGIN:VEVENT
DTSTART;TZID=UTC:20260514T180000
DTEND;TZID=UTC:20260514T190000
DTSTAMP:20260425T122048
CREATED:20260421T155054Z
LAST-MODIFIED:20260421T155054Z
UID:2534-1778781600-1778785200@mynslba.com
SUMMARY:NSLBA-Proteja a su familia\, su negocio y su legado
DESCRIPTION:Español \nÚnase a nuestro Seminario de Planificación Patrimonial para aprender cómo los testamentos\, los fideicomisos y los documentos clave pueden salvaguardar aquello que usted ha trabajado arduamente para construir como empresario Latino.\nJueves 14 de mayo\, 2026 a las 6:00 PM (Español) Dirección: NSLBA 33 Sutton St. Lynn MA\nescuchará a profesionales de confianza hablar sobre:\n•Herramientas básicas de •planificación patrimonial\n•Cómo planificar para su negocio y sus seres queridos\n•Preguntas que debe hacer a su abogado o asesor
URL:https://mynslba.com/event/nslba-proteja-a-su-familia-su-negocio-y-su-legado/
LOCATION:North Shore Latino Business Association Office\, 33 Sutton Street\, Lynn\, MA\, 01901\, United States
ATTACH;FMTTYPE=image/jpeg:https://mynslba.com/wp-content/uploads/2026/04/WhatsApp-Image-2026-04-21-at-11.26.16-AM-1.jpeg
END:VEVENT
BEGIN:VEVENT
DTSTART;TZID=UTC:20260521T170000
DTEND;TZID=UTC:20260521T200000
DTSTAMP:20260425T122048
CREATED:20260421T164407Z
LAST-MODIFIED:20260421T164407Z
UID:2550-1779382800-1779393600@mynslba.com
SUMMARY:HATS OFF  SMALL BUSINESS TEA PARTY
DESCRIPTION:The North Shore Latino Business Association Celebrates Small Business Appreciation Month. \nLa Asociation de Comerciantes Latinos del North Shore Celebra el mes de Apreciacion a las pequeeñas Empresas.
URL:https://mynslba.com/event/hats-off-small-business-tea-party/
LOCATION:North Shore Latino Business Association Office\, 33 Sutton Street\, Lynn\, MA\, 01901\, United States
ATTACH;FMTTYPE=image/jpeg:https://mynslba.com/wp-content/uploads/2026/04/WhatsApp-Image-2026-04-17-at-5.24.49-PM-1.jpeg
END:VEVENT
BEGIN:VEVENT
DTSTART;TZID=UTC:20260612T123000
DTEND;TZID=UTC:20260612T140000
DTSTAMP:20260425T122048
CREATED:20260402T165036Z
LAST-MODIFIED:20260414T181908Z
UID:2446-1781267400-1781272800@mynslba.com
SUMMARY:The North Shore Latino Business Association invites you to a Networking Lonche
DESCRIPTION:
URL:https://mynslba.com/event/the-north-shore-latino-business-association-invites-you-to-a-networking-lunche-2/
LOCATION:Available to be hosted
ATTACH;FMTTYPE=image/jpeg:https://mynslba.com/wp-content/uploads/2026/04/Friday-Viernes-June-12.jpg
END:VEVENT
BEGIN:VEVENT
DTSTART;TZID=UTC:20260626T083000
DTEND;TZID=UTC:20260626T093000
DTSTAMP:20260425T122048
CREATED:20260401T204256Z
LAST-MODIFIED:20260421T160006Z
UID:2423-1782462600-1782466200@mynslba.com
SUMMARY:NSLBA Cafesote Networking Event
DESCRIPTION:NSLBA Cafesote Networking\nConnect with Latino-American entrepreneurs\, small business owners\, and local professionals over a relaxed “CAFESOTE” conversation. Share real experiences\, swap practical tips\, and grow your business network.\nHosted by MassHire North Shore Career Center\nWhy join?\n• Meet potential providers\, clients\, and leaders\n• Learn about NSLBA & Center resources\, workshops\, and financial education\n• Be part of a supportive community focused on small business growth\n~~~~~~~~~~~~~~~~~~~~~~~~~~~~~~\nNSLBA Cafesote Networking\nConéctese con emprendedores\, propietarios de pequeñas empresas y profesionales locales latinoamericanos en torno a una relajada conversación de «CAFESOTE». Comparta experiencias reales\, intercambie consejos prácticos y amplíe su red de contactos empresariales.\nOrganizado por: MassHire North Shore Career Center\n¿Por qué participar?\nConozca a posibles proveedores\, clientes y líderes.\nInfórmese sobre los recursos\, talleres y programas de educación financiera de la NSLBA y del Centro.\nForme parte de una comunidad solidaria enfocada en el crecimiento de las pequeñas empresas.\nFriday | Viernes 6/26/2026 @ 8:30 AM – 9:30 AM\nNSLBA 33 Sutton St. Lynn MA 01901
URL:https://mynslba.com/event/nslba-cafesote-networking-event-2/
LOCATION:North Shore Latino Business Association Office\, 33 Sutton Street\, Lynn\, MA\, 01901\, United States
ATTACH;FMTTYPE=image/jpeg:https://mynslba.com/wp-content/uploads/2026/04/WhatsApp-Image-2026-04-21-at-11.26.16-AM.jpeg
END:VEVENT
BEGIN:VEVENT
DTSTART;TZID=UTC:20260710T083000
DTEND;TZID=UTC:20260710T093000
DTSTAMP:20260425T122048
CREATED:20260402T152957Z
LAST-MODIFIED:20260402T152957Z
UID:2426-1783672200-1783675800@mynslba.com
SUMMARY:NSLBA Cafesote Networking Event
DESCRIPTION:Join us for the NSLBA CAFESOTE Networking Event! \nThis Friday\, July 10\, 2026\, at (ATH).\nWe will meet at 8:30 AM\, and the event will last one hour. \nThis event is sponsored by (ATH). Please note that space is limited. \nReserve your spot by calling 781-596-8300 or emailing mynslba@gmail.com. \nAre you ready to take your business to the next level?\nTake the first step with NSLBA! \n><>< \n¡Únete a nosotros para el evento de la RED NSLBA CAFESOTE! \nEste viernes 10 de Julio de 2026 en  (ATH).\nNos reuniremos a las 8:30 AM y el evento tendrá una duración de una hora. \nEste evento es patrocinado por (ATH). Ten en cuenta que el espacio es limitado. \nReserva tu espacio llamando al 781-596-8300 o escribiendo a mynslba@gmail.com. \n¿Estás listo para elevar tu negocio?\n¡Da el primer paso con NSLBA!
URL:https://mynslba.com/event/nslba-cafesote-networking-event-3/
LOCATION:(ATH)
END:VEVENT
BEGIN:VEVENT
DTSTART;TZID=UTC:20260714T120000
DTEND;TZID=UTC:20260714T170000
DTSTAMP:20260425T122048
CREATED:20260413T180849Z
LAST-MODIFIED:20260413T180849Z
UID:2488-1784030400-1784048400@mynslba.com
SUMMARY:NSLBA Small Business EXPO – 2026
DESCRIPTION:Join us for a powerful day of networking\, showcasing\, and community building at the North Shore Latino Business Association Business Expo! This event brings together local entrepreneurs\, small businesses\, and professionals for a chance to connect\, promote\, and grow. \nÚnase a nosotros para un día impactante de networking\, exhibición y fortalecimiento comunitario en la Expo de Negocios de la North Shore Latino Business Association. Este evento reúne a emprendedores locales\, pequeñas empresas y profesionales para una oportunidad de conectar\, promocionarse y crecer.
URL:https://mynslba.com/event/nslba-small-business-expo-2026/
LOCATION:North Shore Latino Business Association Office\, 33 Sutton Street\, Lynn\, MA\, 01901\, United States
ATTACH;FMTTYPE=image/jpeg:https://mynslba.com/wp-content/uploads/2026/04/WhatsApp-Image-2026-04-13-at-1.25.30-PM.jpeg
END:VEVENT
BEGIN:VEVENT
DTSTART;TZID=UTC:20260714T180000
DTEND;TZID=UTC:20260714T200000
DTSTAMP:20260425T122048
CREATED:20260414T164005Z
LAST-MODIFIED:20260414T164147Z
UID:2501-1784052000-1784059200@mynslba.com
SUMMARY:NSLBA Small Social After the EXPO
DESCRIPTION:
URL:https://mynslba.com/event/nslba-small-social-after-the-expo/
LOCATION:North Shore Latino Business Association Office\, 33 Sutton Street\, Lynn\, MA\, 01901\, United States
ATTACH;FMTTYPE=image/jpeg:https://mynslba.com/wp-content/uploads/2026/04/NSLBA-Social-7.14.2026.jpg
END:VEVENT
BEGIN:VEVENT
DTSTART;TZID=UTC:20260717T123000
DTEND;TZID=UTC:20260717T140000
DTSTAMP:20260425T122048
CREATED:20260402T165328Z
LAST-MODIFIED:20260414T182622Z
UID:2448-1784291400-1784296800@mynslba.com
SUMMARY:The North Shore Latino Business Association invites you to a Networking Lonche
DESCRIPTION:
URL:https://mynslba.com/event/the-north-shore-latino-business-association-invites-you-to-a-networking-lunche-3/
LOCATION:Available to be hosted
ATTACH;FMTTYPE=image/jpeg:https://mynslba.com/wp-content/uploads/2026/04/Friday-Viernes-June-12-1.jpg
END:VEVENT
BEGIN:VEVENT
DTSTART;TZID=UTC:20260731T180000
DTEND;TZID=UTC:20260801T230000
DTSTAMP:20260425T122048
CREATED:20260421T163115Z
LAST-MODIFIED:20260421T163248Z
UID:2545-1785520800-1785625200@mynslba.com
SUMMARY:NSLBA~All In White Cruise 2026
DESCRIPTION:Want to Network and have fun? Come and join us! Let’s enjoy the summer with our business colleagues and friends\, all dressed in white. If you are interested in learning more\, click on the link provided to see more information. \nQuiere conectarse y divertirse? Acompañenos! Disfrutemos el verano con nuestros colegas de negocios y amigos\, todos vestidos de blanco. Si está interesado en obtener más información\, haga clic en el enlace proporcionado para ver más información.
URL:https://mynslba.com/event/nslbaall-in-white-cruise-2026/
LOCATION:MA
ATTACH;FMTTYPE=image/jpeg:https://mynslba.com/wp-content/uploads/2026/04/WhatsApp-Image-2026-04-17-at-5.24.50-PM.jpeg
END:VEVENT
BEGIN:VEVENT
DTSTART;TZID=UTC:20260814T083000
DTEND;TZID=UTC:20260814T093000
DTSTAMP:20260425T122048
CREATED:20260402T155300Z
LAST-MODIFIED:20260402T155300Z
UID:2435-1786696200-1786699800@mynslba.com
SUMMARY:NSLBA Cafesote Networking Event
DESCRIPTION:Join us for the NSLBA CAFESOTE Networking Event! \nThis Friday\, August 14\, 2026\, at 225 Boston St. #202 floor 1.\nWe will meet at 8:30 AM\, and the event will last one hour. \nThis event is sponsored by MassHire NS Career. Please note that space is limited. \nReserve your spot by calling 781-596-8300 or emailing mynslba@gmail.com. \nAre you ready to take your business to the next level?\nTake the first step with NSLBA! \n><>< \n¡Únete a nosotros para el evento de la RED NSLBA CAFESOTE! \nEste viernes 14 de Agosto de 2026 en 225 Boston St. #202 floor 1.\nNos reuniremos a las 8:30 AM y el evento tendrá una duración de una hora. \nEste evento es patrocinado por Victoria Tax & Professional Services Inc. Ten en cuenta que el espacio es limitado. \nReserva tu espacio llamando al 781-596-8300 o escribiendo a mynslba@gmail.com. \n¿Estás listo para elevar tu negocio?\n¡Da el primer paso con NSLBA!
URL:https://mynslba.com/event/nslba-cafesote-networking-event-6/
LOCATION:Victoria Tax & Professional Services Inc.\, 225 Boston St. #202 floor 1\, Lynn\, MA\, 01904\, United States
END:VEVENT
BEGIN:VEVENT
DTSTART;TZID=UTC:20260821T123000
DTEND;TZID=UTC:20260821T140000
DTSTAMP:20260425T122048
CREATED:20260402T163922Z
LAST-MODIFIED:20260402T201704Z
UID:2443-1787315400-1787320800@mynslba.com
SUMMARY:The North Shore Latino Business Association invites you to a Networking Lonche
DESCRIPTION:
URL:https://mynslba.com/event/the-north-shore-latino-business-association-invites-you-to-a-networking-lunche/
LOCATION:Available to be hosted
END:VEVENT
BEGIN:VEVENT
DTSTART;TZID=UTC:20260913T170000
DTEND;TZID=UTC:20260913T230000
DTSTAMP:20260425T122048
CREATED:20260407T180716Z
LAST-MODIFIED:20260407T180716Z
UID:2459-1789318800-1789340400@mynslba.com
SUMMARY:NSLBA 15th Gala Dinner
DESCRIPTION:
URL:https://mynslba.com/event/nslba-15th-gala-dinner/
LOCATION:Danversport Harborview Ballroom\, 161 Elliot Street\, Danvers\, MA\, 01923\, United States
ATTACH;FMTTYPE=image/jpeg:https://mynslba.com/wp-content/uploads/2026/04/WhatsApp-Image-2026-04-07-at-2.05.06-PM.jpeg
END:VEVENT
BEGIN:VEVENT
DTSTART;TZID=UTC:20261009T083000
DTEND;TZID=UTC:20261009T093000
DTSTAMP:20260425T122048
CREATED:20260402T162047Z
LAST-MODIFIED:20260402T162149Z
UID:2440-1791534600-1791538200@mynslba.com
SUMMARY:NSLBA Cafesote Networking Event
DESCRIPTION:Join us for the NSLBA CAFESOTE Networking Event! \nThis Friday\, October 09\, 2026\, at (ATH).\nWe will meet at 8:30 AM\, and the event will last one hour. \nThis event is sponsored by (ATH). Please note that space is limited. \nReserve your spot by calling 781-596-8300 or emailing mynslba@gmail.com. \nAre you ready to take your business to the next level?\nTake the first step with NSLBA! \n><>< \n¡Únete a nosotros para el evento de la RED NSLBA CAFESOTE! \nEste viernes 09 de Octubre de 2026 en  (ATH).\nNos reuniremos a las 8:30 AM y el evento tendrá una duración de una hora. \nEste evento es patrocinado por (ATH). Ten en cuenta que el espacio es limitado. \nReserva tu espacio llamando al 781-596-8300 o escribiendo a mynslba@gmail.com. \n¿Estás listo para elevar tu negocio?\n¡Da el primer paso con NSLBA!
URL:https://mynslba.com/event/nslba-cafesote-networking-event-7/
LOCATION:(ATH)
END:VEVENT
BEGIN:VEVENT
DTSTART;TZID=UTC:20261113T083000
DTEND;TZID=UTC:20261113T093000
DTSTAMP:20260425T122048
CREATED:20260402T154216Z
LAST-MODIFIED:20260402T154216Z
UID:2433-1794558600-1794562200@mynslba.com
SUMMARY:NSLBA Cafesote Networking Event
DESCRIPTION:Join us for the NSLBA CAFESOTE Networking Event! \nThis Friday\, November 13\, 2026\, at (ATH).\nWe will meet at 8:30 AM\, and the event will last one hour. \nThis event is sponsored by (ATH). Please note that space is limited. \nReserve your spot by calling 781-596-8300 or emailing mynslba@gmail.com. \nAre you ready to take your business to the next level?\nTake the first step with NSLBA! \n><>< \n¡Únete a nosotros para el evento de la RED NSLBA CAFESOTE! \nEste viernes 13 de Noviembre de 2026 en  (ATH).\nNos reuniremos a las 8:30 AM y el evento tendrá una duración de una hora. \nEste evento es patrocinado por (ATH). Ten en cuenta que el espacio es limitado. \nReserva tu espacio llamando al 781-596-8300 o escribiendo a mynslba@gmail.com. \n¿Estás listo para elevar tu negocio?\n¡Da el primer paso con NSLBA!
URL:https://mynslba.com/event/nslba-cafesote-networking-event-5/
LOCATION:(ATH)
END:VEVENT
BEGIN:VEVENT
DTSTART;TZID=UTC:20261118T180000
DTEND;TZID=UTC:20261118T200000
DTSTAMP:20260425T122048
CREATED:20260413T173239Z
LAST-MODIFIED:20260413T173239Z
UID:2477-1795024800-1795032000@mynslba.com
SUMMARY:NSLBA Hispanic Heritage Business Mixer
DESCRIPTION:
URL:https://mynslba.com/event/nslba-hispanic-heritage-business-mixer/
LOCATION:North Shore Latino Business Association Office\, 33 Sutton Street\, Lynn\, MA\, 01901\, United States
END:VEVENT
BEGIN:VEVENT
DTSTART;TZID=UTC:20261130T180000
DTEND;TZID=UTC:20261130T203000
DTSTAMP:20260425T122048
CREATED:20260413T174333Z
LAST-MODIFIED:20260413T175339Z
UID:2482-1796061600-1796070600@mynslba.com
SUMMARY:NSLBA Entre Nosotras - Among Us
DESCRIPTION: NSLBA Entre Nosotras Event Redefining Connections “A Women’s Networking Night in RED” | Conexiones en Rojo “Una Noche de Networking para Mujeres”
URL:https://mynslba.com/event/nslba-entre-nosotras-among-us-2/
LOCATION:(Location TBA)
ATTACH;FMTTYPE=image/jpeg:https://mynslba.com/wp-content/uploads/2026/04/WhatsApp-Image-2026-04-13-at-1.48.31-PM.jpeg
END:VEVENT
END:VCALENDAR