BEGIN:VCALENDAR
VERSION:2.0
PRODID:-//North Shore Latino Business - ECPv6.15.20//NONSGML v1.0//EN
CALSCALE:GREGORIAN
METHOD:PUBLISH
X-ORIGINAL-URL:https://mynslba.com
X-WR-CALDESC:Events for North Shore Latino Business
REFRESH-INTERVAL;VALUE=DURATION:PT1H
X-Robots-Tag:noindex
X-PUBLISHED-TTL:PT1H
BEGIN:VTIMEZONE
TZID:UTC
BEGIN:STANDARD
TZOFFSETFROM:+0000
TZOFFSETTO:+0000
TZNAME:UTC
DTSTART:20240101T000000
END:STANDARD
END:VTIMEZONE
BEGIN:VEVENT
DTSTART;TZID=UTC:20251104T090000
DTEND;TZID=UTC:20251220T120000
DTSTAMP:20260425T210225
CREATED:20251103T164837Z
LAST-MODIFIED:20251107T175305Z
UID:2140-1762246800-1766232000@mynslba.com
SUMMARY:TOY DRIVE - COLECCION DE JUGUETES
DESCRIPTION:TOY DRIVE – COLECCION DE JUGUETES\nPlease help us make the holidays special for children in need. We are accepting new unwrapped toys\, ages 6-16 at one of our drop-off locations from 11/4/2025 to 12/20/2025 ~~~~~~\nPor favor\, ayúdenos a que estas fiestas sean especiales para los niños necesitados. Aceptamos juguetes nuevos sin envolver\, para niños de 6 a 16 años\, en cualquiera de nuestros puntos de entregas desde el 4 de nov\, 2025 hasta el 20 de dic\, 2025.\nDROP OFF LOCATIONS | PUNTOS DE ENTREGAS\n<>COMMUNITY CREDIT UNION\nI Andrew Street. Lynn MA |\n32 Central St. Peabody MA\n377 Summer St. Somerville MA\n<>NSLBA-Center 33 Sutton Street. Lynn MA\n<>BROTHERS DELI OF LYNN 41 Market Street. Lynn MA
URL:https://mynslba.com/event/toy-drive-coleccion-de-juguetes/
LOCATION:North Shore Latino Business Association Office\, 33 Sutton Street\, Lynn\, MA\, 01901\, United States
ATTACH;FMTTYPE=image/jpeg:https://mynslba.com/wp-content/uploads/2025/11/TOY-DRIVE-2025.jpg
END:VEVENT
BEGIN:VEVENT
DTSTART;TZID=UTC:20251204T090000
DTEND;TZID=UTC:20260115T170000
DTSTAMP:20260425T210225
CREATED:20251204T190807Z
LAST-MODIFIED:20251229T214706Z
UID:2214-1764838800-1768496400@mynslba.com
SUMMARY:NSLBA-Center Business Of Hard Knocks Program
DESCRIPTION:NSLBA-Center: BUSINESS OF HARD KNOCKS PROGRAM; (12 Thursdays) starts third week of January\, 2026 Commitment: 12 Weeks) \nProgram for the reintegration of citizens and families affected by the justice system (ex-inmates or immediate family member). This incubator will function as a fundamental resource center\, offering participants personalized support to launch or expand their entrepreneurial initiatives using a field-tested curriculum. This course is hybrid (in-person and online) and 4 weeks of one-on-one support. \nUpon completion of the program\, each participant will receive a stipend of $1\,500.00. For more information 781-596-8300 \n#nslbaandcenter #nslbcenter #businessofhardknocks #exinmate #justicesystem #immediatelyfamily #startup #establishedbusiness #hybridprogram #greatopportunity #twelveweeks @cityoflynn @edic @roadscg
URL:https://mynslba.com/event/nslba-center-business-of-hard-knocks-program/
LOCATION:North Shore Latino Business Association Office\, 33 Sutton Street\, Lynn\, MA\, 01901\, United States
ATTACH;FMTTYPE=image/jpeg:https://mynslba.com/wp-content/uploads/2025/12/NSLBA-business-of-hard-knocks-Program.jpg
END:VEVENT
BEGIN:VEVENT
DTSTART;TZID=UTC:20251209T173000
DTEND;TZID=UTC:20251209T190000
DTSTAMP:20260425T210225
CREATED:20251110T202946Z
LAST-MODIFIED:20251110T202946Z
UID:2169-1765301400-1765306800@mynslba.com
SUMMARY:Community Credit Union Holiday Gathering
DESCRIPTION:El Community Credit Union\ntiene el placer de invitar a los miembros de la Asociación de Comerciantes\nNorth Shore Latino Business Association y de la Greater Lynn Chamber of Commerce a su encuentro anual de temporada\, donde podrán disfrutar de un delicioso bufet y bebidas (Gratis)\, cortesía de CCU\, mientras comparten con otros empresarios y profesionales.\n\nCommunity Credit Union\nwarmly welcomes the members of the\nNorth Shore Latino Business Association and the Greater Lynn Chamber of Commerce\nto their annual holiday event. Join us for an opportunity to network with fellow entrepreneurs and professionals while enjoying a delightful buffet and beverages (no cost) provided by CCU.\n\nMartes|Tuesday Dec 9\, 2025 @ 5:30 PM\nCCU 1 Andrew St. Lynn MA\nRegistrese para participar/Register to join us:\n\nhttps://www.zeffy.com/en-US/ticketing/ccu-annual-holiday-gathering-encuentro-festivo-anual-de-ccu
URL:https://mynslba.com/event/community-credit-union-holiday-gathering-2/
LOCATION:Community Credit Union – Lynn\, 1 Andrew Street\, Lynn\, MA\, 01901\, United States
ATTACH;FMTTYPE=image/jpeg:https://mynslba.com/wp-content/uploads/2025/11/CCU-Holiday-Gathering.jpg
END:VEVENT
BEGIN:VEVENT
DTSTART;TZID=UTC:20251212T100000
DTEND;TZID=UTC:20251212T130000
DTSTAMP:20260425T210225
CREATED:20251125T203122Z
LAST-MODIFIED:20251125T204001Z
UID:2198-1765533600-1765544400@mynslba.com
SUMMARY:¡Gran Feria de Emprendedores! Great Entrepreneur Fair!
DESCRIPTION:¿Eres emprendedor o te gustaría comprar productos únicos?\n¡No te pierdas la oportunidad de apoyar a nuestros emprendedores locales!\nAre you an entrepreneur or would you like to buy unique products?\nDon’t miss the chance to support our local entrepreneurs!\nFecha | Date: Viernes: Friday: Dec 12\, 2025\nHorarios | Hours: Mañana | Morning 10:00 AM – 1:00 PM\nHorarios | Hours: Tarde | Afternoon: 2:00 PM – 5:00 PM\nNorth Shore Latino Business Assocation-Center Lugar| Location: 33 Sutton Street. Lynn MA\nCosto para NSLBA Emprendedores | Cost for NSLBA\nEntrepreneurs: $35.00\nCosto para Emprendedores No Miembros Miembros |\nCost for Entrepreneurs Non-Members: $50.00\n¡Incluye espacio para tu stand\, mesa\, silla y promoción del evento!\nIncludes space for your booth\, table\, chairs and event promotion! \nhttps://www.zeffy.com/en-US/ticketing/gran-feria-de-emprendedores-great-entrepreneur-fair\nInfo: 781596-8300 Email: mynslba@mail.com
URL:https://mynslba.com/event/gran-feria-de-emprendedores-great-entrepreneur-fair/
LOCATION:North Shore Latino Business Association Office\, 33 Sutton Street\, Lynn\, MA\, 01901\, United States
ATTACH;FMTTYPE=image/jpeg:https://mynslba.com/wp-content/uploads/2025/11/Entreprenuer-Fair-12.12.2025.jpg
END:VEVENT
BEGIN:VEVENT
DTSTART;TZID=UTC:20251212T140000
DTEND;TZID=UTC:20251212T170000
DTSTAMP:20260425T210225
CREATED:20251125T203743Z
LAST-MODIFIED:20251125T203743Z
UID:2206-1765548000-1765558800@mynslba.com
SUMMARY:¡Gran Feria de Emprendedores! Great Entrepreneur Fair!
DESCRIPTION:¿Eres emprendedor o te gustaría comprar productos únicos?\n¡No te pierdas la oportunidad de apoyar a nuestros emprendedores locales!\nAre you an entrepreneur or would you like to buy unique products?\nDon’t miss the chance to support our local entrepreneurs!\nFecha | Date: Viernes: Friday: Dec 12\, 2025\nHorarios | Hours: Mañana | Morning 10:00 AM – 1:00 PM\nHorarios | Hours: Tarde | Afternoon: 2:00 PM – 5:00 PM\nNorth Shore Latino Business Assocation-Center Lugar| Location: 33 Sutton Street. Lynn MA\nCosto para NSLBA Emprendedores | Cost for NSLBA\nEntrepreneurs: $35.00\nCosto para Emprendedores No Miembros Miembros |\nCost for Entrepreneurs Non-Members: $50.00\n¡Incluye espacio para tu stand\, mesa\, silla y promoción del evento!\nIncludes space for your booth\, table\, chairs and event promotion! \nhttps://www.zeffy.com/en-US/ticketing/gran-feria-de-emprendedores-great-entrepreneur-fair\nInfo: 781596-8300 Email: mynslba@mail.com
URL:https://mynslba.com/event/gran-feria-de-emprendedores-great-entrepreneur-fair-2/
LOCATION:North Shore Latino Business Association Office\, 33 Sutton Street\, Lynn\, MA\, 01901\, United States
ATTACH;FMTTYPE=image/jpeg:https://mynslba.com/wp-content/uploads/2025/11/Entreprenuer-Fair-12.12.2025.jpg
END:VEVENT
BEGIN:VEVENT
DTSTART;TZID=UTC:20251215T110000
DTEND;TZID=UTC:20251215T120000
DTSTAMP:20260425T210225
CREATED:20251209T194345Z
LAST-MODIFIED:20251209T194345Z
UID:2223-1765796400-1765800000@mynslba.com
SUMMARY:EBENEZER TAX & SERVICES Official Grand Opening & Ribbon Cutting Ceremony
DESCRIPTION:The North Shore Latino Business Association invites you to come join us and our new members for the Official Grand Opening & Ribbon Cutting Ceremony of ”EBENEZER TAX & SERVICES” December 15\, 2025. \nLa Asociación de Comerciantes Latinos del North Shore los invita celebrar con nosotros y nuestros miembros para la Gran Ceremonia de Inauguración de ” EBENEZER TAX & SERVICES”  el 15 de Diciembre del 2025.
URL:https://mynslba.com/event/ebenezer-tax-services-official-grand-opening-ribbon-cutting-ceremony/
LOCATION:EBENEZER TAX & SERVICES\, 1R Newbury St. Suite 104\, Peabody\, MA\, 01960\, United States
ATTACH;FMTTYPE=image/jpeg:https://mynslba.com/wp-content/uploads/2025/12/WhatsApp-Image-2025-12-09-at-1.04.34-PM-1.jpeg
END:VEVENT
BEGIN:VEVENT
DTSTART;TZID=UTC:20251215T173000
DTEND;TZID=UTC:20251215T200000
DTSTAMP:20260425T210225
CREATED:20251120T204110Z
LAST-MODIFIED:20251211T205032Z
UID:2192-1765819800-1765828800@mynslba.com
SUMMARY:NSLBA Spanglish Holiday Dinner Party
DESCRIPTION:Join us for the NSLBA Annual SPANGLISH HOLIDAY DINNER PARTY\nCelebrate the warmth of the season with fellow Latino entrepreneurs.\nEnjoy an evening filled with delicious food\, heartfelt connections\, and\nshared stories. This dinner is a time to reflect on our journey\, strengthen\nour network\, and toast to future successes. Hosted by the North Shore\nLatino Business Asssociation-Center Inc\, we gather to honor the spirit \nof community and growth. \nEvent Highlights:\nA festive dinner featuring local culinary delights\nOpportunities to connect with business owners and leaders\nA toast to our collective achievements \nMEGA Raffle\nBe part of our community’s economic and personal growth.\nDetails – Tickets\, Sponsorship Opportunity:\nhttps://www.zeffy.com/en-US/ticketing/nslba-annual-spanglish-holiday-dinner-party-cena-navidena-anual-del-nslba \n~~~~~~~~~~~~~~~~~~~~~~~~~~~~~ \nÚnase a nosotros en la Cena Navideña Anual de la NSLBA.\nCelebre la calidez de la temporada con otros emprendedores latinos. Disfrute de una velada llena de deliciosa comida\, conexiones significativas e historias \ncompartidas. Esta cena es un momento para reflexionar sobre nuestra trayectoria\, fortalecer nuestra red de contactos y brindar por los éxitos futuros. Organizada por North Shore Latino Business Association-Center Inc.\, nos reunimos para honrar el espíritu de comunidad y crecimiento. \nAspectos destacados del evento:\nUna cena festiva con delicias culinarias locales\nOportunidades para conectar con dueños de negocios y líderes\nUn brindis por nuestros logros colectivos\n¡Gran rifa!\nSea parte del crecimiento económico y personal de nuestra comunidad. \nDetalles\, Boletas\, Oportunidad de Auspicio: \nhttps://www.zeffy.com/en-US/ticketing/nslba-annual-spanglish-holiday-dinner-party-cena-navidena-anual-del-nslba
URL:https://mynslba.com/event/nslba-spanglish-holiday-party-dinner/
LOCATION:Global Kitchen and Banquet\, 138 Boston Street\, Lynn\, MA\, 01904\, United States
ATTACH;FMTTYPE=image/jpeg:https://mynslba.com/wp-content/uploads/2025/11/unnamed-7.jpg
END:VEVENT
BEGIN:VEVENT
DTSTART;TZID=UTC:20251217T110000
DTEND;TZID=UTC:20251217T120000
DTSTAMP:20260425T210225
CREATED:20251209T204407Z
LAST-MODIFIED:20251209T204407Z
UID:2227-1765969200-1765972800@mynslba.com
SUMMARY:
DESCRIPTION:The North Shore Latino Business Association invites you to come join us and our new members for the Official Grand Opening & Ribbon Cutting Ceremony of ”EBENEZER TAX & SERVICES” December 17\, 2025. \nLa Asociación de Comerciantes Latinos del North Shore los invita celebrar con nosotros y nuestros miembros para la Gran Ceremonia de Inauguración de ” EBENEZER TAX & SERVICES”  el 17 de Diciembre del 2025.
URL:https://mynslba.com/event/2227/
LOCATION:EBENEZER TAX & SERVICES\, 337 Broadway\, St.\, Revere\, MA\, 02151\, United States
ATTACH;FMTTYPE=image/jpeg:https://mynslba.com/wp-content/uploads/2025/12/WhatsApp-Image-2025-12-09-at-1.04.34-PM.jpeg
END:VEVENT
END:VCALENDAR