BEGIN:VCALENDAR
VERSION:2.0
PRODID:-//North Shore Latino Business - ECPv6.15.20//NONSGML v1.0//EN
CALSCALE:GREGORIAN
METHOD:PUBLISH
X-ORIGINAL-URL:https://mynslba.com
X-WR-CALDESC:Events for North Shore Latino Business
REFRESH-INTERVAL;VALUE=DURATION:PT1H
X-Robots-Tag:noindex
X-PUBLISHED-TTL:PT1H
BEGIN:VTIMEZONE
TZID:UTC
BEGIN:STANDARD
TZOFFSETFROM:+0000
TZOFFSETTO:+0000
TZNAME:UTC
DTSTART:20250101T000000
END:STANDARD
END:VTIMEZONE
BEGIN:VEVENT
DTSTART;TZID=UTC:20261009T083000
DTEND;TZID=UTC:20261009T093000
DTSTAMP:20260426T021035
CREATED:20260402T162047Z
LAST-MODIFIED:20260402T162149Z
UID:2440-1791534600-1791538200@mynslba.com
SUMMARY:NSLBA Cafesote Networking Event
DESCRIPTION:Join us for the NSLBA CAFESOTE Networking Event! \nThis Friday\, October 09\, 2026\, at (ATH).\nWe will meet at 8:30 AM\, and the event will last one hour. \nThis event is sponsored by (ATH). Please note that space is limited. \nReserve your spot by calling 781-596-8300 or emailing mynslba@gmail.com. \nAre you ready to take your business to the next level?\nTake the first step with NSLBA! \n><>< \n¡Únete a nosotros para el evento de la RED NSLBA CAFESOTE! \nEste viernes 09 de Octubre de 2026 en  (ATH).\nNos reuniremos a las 8:30 AM y el evento tendrá una duración de una hora. \nEste evento es patrocinado por (ATH). Ten en cuenta que el espacio es limitado. \nReserva tu espacio llamando al 781-596-8300 o escribiendo a mynslba@gmail.com. \n¿Estás listo para elevar tu negocio?\n¡Da el primer paso con NSLBA!
URL:https://mynslba.com/event/nslba-cafesote-networking-event-7/
LOCATION:(ATH)
END:VEVENT
END:VCALENDAR